BEGIN:VCALENDAR
VERSION:2.0
PRODID:-//Boca Raton Innovation Campus - ECPv4.8.2//NONSGML v1.0//EN
CALSCALE:GREGORIAN
METHOD:PUBLISH
X-WR-CALNAME:Boca Raton Innovation Campus
X-ORIGINAL-URL:https://workatbric.com
X-WR-CALDESC:Events for Boca Raton Innovation Campus
BEGIN:VEVENT
DTSTART;TZID=UTC+0:20191019T153000
DTEND;TZID=UTC+0:20191019T164500
DTSTAMP:20260425T165231
CREATED:20191010T200412Z
LAST-MODIFIED:20191011T205552Z
UID:1083-1571499000-1571503500@workatbric.com
SUMMARY:The Not So Scary Halloween Magic Show & Costume Contest
DESCRIPTION:The Amazing Mr. A’s Not So Scary Halloween Magic Show & Costume Contest\nIn the spirit of the season\, bring the kids all dressed up for an afternoon of mind-bending fun with the Amazing Mr. A\, 4-Time Florida state magic champion and ventriloquist. A prize awaits the best kids costume so make sure to get your little ones looking show-ready.\nShow Time: 3:30 – 4:45 PM (Doors open at 3:00 PM)\nTicket Price: $10\nAdditional: All ages | No purchase minimums | First come first serve seating | Free parking available on-site. \n
URL:https://workatbric.com/event/the-not-so-scary-halloween-magic-show-costume-contest
LOCATION:BRIC Conference Center
CATEGORIES:Open to Public
ATTACH;FMTTYPE=image/jpeg:https://workatbric.com/app/uploads/2019/10/71911683_2321333648084161_1438085441612939264_o.jpg
ORGANIZER;CN="Comic%20Cure":MAILTO:ben@comiccure.com
END:VEVENT
END:VCALENDAR