BEGIN:VCALENDAR
VERSION:2.0
PRODID:-//Boca Raton Innovation Campus - ECPv4.8.2//NONSGML v1.0//EN
CALSCALE:GREGORIAN
METHOD:PUBLISH
X-WR-CALNAME:Boca Raton Innovation Campus
X-ORIGINAL-URL:https://workatbric.com
X-WR-CALDESC:Events for Boca Raton Innovation Campus
BEGIN:VEVENT
DTSTART;TZID=UTC+0:20191030T110000
DTEND;TZID=UTC+0:20191030T140000
DTSTAMP:20260425T180845
CREATED:20191021T150232Z
LAST-MODIFIED:20191021T150821Z
UID:1106-1572433200-1572444000@workatbric.com
SUMMARY:Pumpkin Carving Contest
DESCRIPTION:BRiC will be hosting their fifth annual pumpkin carving contest in the dining hall.  Prizes will be awarded for: scariest\, most creative and best of show.  There will be live music\, a candied apple station and judging will take place at 1:30pm. \n
URL:https://workatbric.com/event/pumpkin-carving-contest
LOCATION:BRiC Dining Hall
ATTACH;FMTTYPE=image/jpeg:https://workatbric.com/app/uploads/2019/10/Fright-night-e1571670490305.jpg
END:VEVENT
END:VCALENDAR