BEGIN:VCALENDAR
VERSION:2.0
PRODID:-//Boca Raton Innovation Campus - ECPv4.8.2//NONSGML v1.0//EN
CALSCALE:GREGORIAN
METHOD:PUBLISH
X-WR-CALNAME:Boca Raton Innovation Campus
X-ORIGINAL-URL:https://workatbric.com
X-WR-CALDESC:Events for Boca Raton Innovation Campus
BEGIN:VEVENT
DTSTART;TZID=UTC+0:20190521T173000
DTEND;TZID=UTC+0:20190521T190000
DTSTAMP:20260425T164749
CREATED:20190401T193015Z
LAST-MODIFIED:20190503T150444Z
UID:789-1558459800-1558465200@workatbric.com
SUMMARY:Intersection of Art & Tech
DESCRIPTION:Enjoy an evening with distinguished master of arts and science Carol Prusa discussing the Intersection between Art and Tech. Carol Prusa is an award winning contemporary artist with a major solo exhibit coming to the Boca Raton Museum of Art later this year. \nSponsored by BRIC\, the Cultural Council of Palm Beach County and the Boca Raton Museum of Art\, cocktails and light bites are included in the ticket price. \nMore about Carol Prusa \nCarol Prusa is a mid-career contemporary artist known for her meticulous silverpoint technique and use of unexpected materials from sculpted resin and fiberglass to metal leaf and LED lights. In the 2015 catalogue essay for the exhibition Drawing in Silver and Gold: Leonardo to Jasper Johns\, Bruce Weber called Carol Prusa “one of the most innovative artists working in metalpoint today.” \nBorn in Chicago\, Prusa lives and works in South Florida and exhibits internationally\, including at Brintz Gallery (Palm Beach) and Jenkins Johnson Gallery (NYC and San Francisco). Her work is included in excellent public and private collections\, including the Perez Art Museum (Miami)\, The Museum of Arts and Design (NYC)\, Telfair Art Museum (Savannah)\, and the Francie Bishop Good and David Horvitz Collection. \n  \nShe will have a major solo exhibition at the Boca Museum in 2019. She currently teaches painting as a Professor of Art at Florida Atlantic University. \n
URL:https://workatbric.com/event/intersection-of-art-tech
LOCATION:BRIC Conference Center
CATEGORIES:Open to Public
ATTACH;FMTTYPE=image/jpeg:https://workatbric.com/app/uploads/2019/04/https___cdn.evbuc_.com_images_60829713_252773702102_1_original.jpg
ORGANIZER;CN="Crocker%20Partners%20Property%20Management":MAILTO:mbrisbois@crockerpartners.com
END:VEVENT
END:VCALENDAR