BEGIN:VCALENDAR
VERSION:2.0
PRODID:-//Boca Raton Innovation Campus - ECPv4.8.2//NONSGML v1.0//EN
CALSCALE:GREGORIAN
METHOD:PUBLISH
X-WR-CALNAME:Boca Raton Innovation Campus
X-ORIGINAL-URL:https://workatbric.com
X-WR-CALDESC:Events for Boca Raton Innovation Campus
BEGIN:VEVENT
DTSTART;TZID=UTC+0:20190530T080000
DTEND;TZID=UTC+0:20190530T093000
DTSTAMP:20260425T170250
CREATED:20190415T144203Z
LAST-MODIFIED:20190524T150454Z
UID:695-1559203200-1559208600@workatbric.com
SUMMARY:Meet the Media: Turning your Pitch into Free Press
DESCRIPTION:You have just 8-seconds (or less) to grab the attention of the media. Join us for an in-depth panel discussion on how to earn FREE press & make every second count! Our expert panel is comprised of the “who’s who” of South Florida’s editorial media. \nQ & A to include do’s and don’t of pitching\, successful storytelling\, and what it takes to secure media coverage. \nArrive Early (7:45) for Networking! \nFeatured Speakers \nSuzanne Boyd\nTV News Veteran\, 20-year Anchor\, formerly at CBS\nDigital Talk Show Creator \nAlexandra Clough\nStaff Writer\, The Palm Beach Post \nMarie Speed\nEditor-in-Chief \, Boca Magazine \nBrian “McLovin” Rowitz\nESPN West Palm Beach Executive Producer \nModerator: Cindy Metzler\, Omm Media \nArrive Early for Networking! \n
URL:https://workatbric.com/event/how-to-generate-free-press-for-your-brand-and-business
LOCATION:BRIC Conference Center
CATEGORIES:Open to Public
ATTACH;FMTTYPE=image/jpeg:https://workatbric.com/app/uploads/2019/04/press-for-brand-business-op-1.jpg
ORGANIZER;CN="Crocker%20Partners%20Property%20Management":MAILTO:mbrisbois@crockerpartners.com
END:VEVENT
END:VCALENDAR