BEGIN:VCALENDAR
VERSION:2.0
PRODID:-//Boca Raton Innovation Campus - ECPv4.8.2//NONSGML v1.0//EN
CALSCALE:GREGORIAN
METHOD:PUBLISH
X-WR-CALNAME:Boca Raton Innovation Campus
X-ORIGINAL-URL:https://workatbric.com
X-WR-CALDESC:Events for Boca Raton Innovation Campus
BEGIN:VEVENT
DTSTART;TZID=UTC+0:20190501T100000
DTEND;TZID=UTC+0:20190501T150000
DTSTAMP:20260425T195826
CREATED:20190415T144209Z
LAST-MODIFIED:20190417T181252Z
UID:699-1556704800-1556722800@workatbric.com
SUMMARY:Health & Wellness Expo
DESCRIPTION:Get tips and treats on how to maintain a healthy lifestyle. Massage therapy will be offered along with offerings such as vitamins\, supplements\, herbal tears and more. \n
URL:https://workatbric.com/event/health-wellness-expo
LOCATION:By the Fountain
CATEGORIES:Tenants only
ATTACH;FMTTYPE=image/jpeg:https://workatbric.com/app/uploads/2019/04/Health-and-Wellness.jpg
ORGANIZER;CN="Crocker%20Partners%20Property%20Management":MAILTO:mbrisbois@crockerpartners.com
END:VEVENT
END:VCALENDAR