BEGIN:VCALENDAR
VERSION:2.0
PRODID:-//Boca Raton Innovation Campus - ECPv4.8.2//NONSGML v1.0//EN
CALSCALE:GREGORIAN
METHOD:PUBLISH
X-WR-CALNAME:Boca Raton Innovation Campus
X-ORIGINAL-URL:https://workatbric.com
X-WR-CALDESC:Events for Boca Raton Innovation Campus
BEGIN:VEVENT
DTSTART;TZID=UTC+0:20190412T100000
DTEND;TZID=UTC+0:20190412T140000
DTSTAMP:20260425T230708
CREATED:20190415T144210Z
LAST-MODIFIED:20190416T155052Z
UID:700-1555063200-1555077600@workatbric.com
SUMMARY:Farmer's Market
DESCRIPTION:With over 20+ vendors\, enjoy a variety of different foods and handmade products including fresh lemonade\, organic fruits\, homemade salsa and dips and more! \n
URL:https://workatbric.com/event/farmers-market/2019-04-12
LOCATION:By the Fountain
CATEGORIES:Tenants only
ATTACH;FMTTYPE=image/jpeg:https://workatbric.com/app/uploads/2019/04/farmers-market-op-1.jpg
ORGANIZER;CN="Crocker%20Partners%20Property%20Management":MAILTO:mbrisbois@crockerpartners.com
END:VEVENT
END:VCALENDAR