BEGIN:VCALENDAR
VERSION:2.0
PRODID:-//Boca Raton Innovation Campus - ECPv4.8.2//NONSGML v1.0//EN
CALSCALE:GREGORIAN
METHOD:PUBLISH
X-WR-CALNAME:Boca Raton Innovation Campus
X-ORIGINAL-URL:https://workatbric.com
X-WR-CALDESC:Events for Boca Raton Innovation Campus
BEGIN:VEVENT
DTSTART;TZID=UTC+0:20191121T173000
DTEND;TZID=UTC+0:20191121T200000
DTSTAMP:20260425T165344
CREATED:20191024T145215Z
LAST-MODIFIED:20191024T145215Z
UID:1132-1574357400-1574366400@workatbric.com
SUMMARY:Entrepreneurs in Paradise - Celebrating Global Entrepreneurship Week
DESCRIPTION:Featuring:\n100+ Local Entrepreneurs\nVIP Section with 40+ Entrepreneurs from The Shrimp Tank Podcast\nSome of the hottest brands in our local community:\nFitFoodFresh\, Two Degrees\, The Shrimp Tank\, Erica’s Plumbing\, Florida Podcast Network\, Broski Ciderworks\, GetFitAcademy\, Wizard Creations\, G&O Fitness\, The Seed\, The Silver Logic and more! \nLive entertainment:\nRise+Live with Roby and Suze – “Can We Do It”\nThe Shrimp Tank Live – “Plead the 5th”\nHeather Monahan – Confidence in Business \n50% off General Admission with coupon code: 10offbricees\n$25 off VIP lounge with coupon code: 25offbriceesVIP \n
URL:https://workatbric.com/event/entrepreneurs-in-paradise-celebrating-global-entrepreneurship-week
LOCATION:BRIC Conference Center
CATEGORIES:Open to Public
ATTACH;FMTTYPE=image/png:https://workatbric.com/app/uploads/2019/10/Eventbrite-Header.png
ORGANIZER;CN="Crocker%20Partners%20Property%20Management":MAILTO:mbrisbois@crockerpartners.com
END:VEVENT
END:VCALENDAR