BEGIN:VCALENDAR
VERSION:2.0
PRODID:-//Boca Raton Innovation Campus - ECPv4.8.2//NONSGML v1.0//EN
CALSCALE:GREGORIAN
METHOD:PUBLISH
X-WR-CALNAME:Boca Raton Innovation Campus
X-ORIGINAL-URL:https://workatbric.com
X-WR-CALDESC:Events for Boca Raton Innovation Campus
BEGIN:VEVENT
DTSTART;TZID=UTC+0:20211005T101500
DTEND;TZID=UTC+0:20211005T113000
DTSTAMP:20260420T104559
CREATED:20210916T173851Z
LAST-MODIFIED:20210916T174117Z
UID:1912-1633428900-1633433400@workatbric.com
SUMMARY:Dialog with a Doc by National Jewish Health - Prevention of Pediatric Allergies and Asthma
DESCRIPTION:Join expert physician-scientists to discuss the latest research and treatments on pediatric allergies and asthma\, as well as bronchiectasis and nontuberculous mycobacterial (NTM) infections in adults. These conditions are showing a marked increase in the U.S. population\, and our faculty are world experts. We will also discuss how we\, as the leading respiratory hospital in the nation\, are studying novel ways to repair damaged lung tissue. \nRSVP Here: https://donate.nationaljewish.org/page/32350/event/1?ea.tracking.id=AN2110DWDFL&ea.url.id=979760&forwarded=true \n
URL:https://workatbric.com/event/dialog-with-a-doc-by-national-jewish-health-prevention-of-pediatric-allergies-and-asthma
CATEGORIES:Open to Public
ATTACH;FMTTYPE=image/png:https://workatbric.com/app/uploads/2021/09/Dia.png
END:VEVENT
END:VCALENDAR