BEGIN:VCALENDAR
VERSION:2.0
PRODID:-//Boca Raton Innovation Campus - ECPv4.8.2//NONSGML v1.0//EN
CALSCALE:GREGORIAN
METHOD:PUBLISH
X-WR-CALNAME:Boca Raton Innovation Campus
X-ORIGINAL-URL:https://workatbric.com
X-WR-CALDESC:Events for Boca Raton Innovation Campus
BEGIN:VEVENT
DTSTART;TZID=UTC+0:20190719T080000
DTEND;TZID=UTC+0:20190719T100000
DTSTAMP:20260425T165947
CREATED:20190626T134319Z
LAST-MODIFIED:20190626T134319Z
UID:993-1563523200-1563530400@workatbric.com
SUMMARY:Creative Mornings Palm Beach
DESCRIPTION:Enjoy a talk from Kathleen Bocek\, Senior Vice President of People\, Places and Administration from Modernizing Medicine – tenant of Boca Raton Innovation Campus. Registration link to come. \n
URL:https://workatbric.com/event/creative-mornings-palm-beach
LOCATION:BRIC Conference Center
CATEGORIES:Open to Public
ATTACH;FMTTYPE=image/jpeg:https://workatbric.com/app/uploads/2019/06/CreativeMorningsStripes-1920x1080.jpg
ORGANIZER;CN="Crocker%20Partners%20Property%20Management":MAILTO:mbrisbois@crockerpartners.com
END:VEVENT
END:VCALENDAR