BEGIN:VCALENDAR
VERSION:2.0
PRODID:-//Boca Raton Innovation Campus - ECPv4.8.2//NONSGML v1.0//EN
CALSCALE:GREGORIAN
METHOD:PUBLISH
X-WR-CALNAME:Boca Raton Innovation Campus
X-ORIGINAL-URL:https://workatbric.com
X-WR-CALDESC:Events for Boca Raton Innovation Campus
BEGIN:VEVENT
DTSTART;TZID=UTC+0:20211122T173000
DTEND;TZID=UTC+0:20211122T193000
DTSTAMP:20260420T040746
CREATED:20210729T212443Z
LAST-MODIFIED:20211119T171648Z
UID:1824-1637602200-1637609400@workatbric.com
SUMMARY:CP Group's Annual Holiday Tree Lighting - NEW DATE!
DESCRIPTION:GOOD NEWS: \nEvent rescheduled for THIS MONDAY\, Nov. 22. If you have already purchased tickets for the VIP Hospitality tent\, there is no need to re-register. If you have previously registered for general admission please re-register. \nBETTER NEWS: \nYou have more time to invite friends\, family\, colleagues and neighbhors to join in the festivities \nBEST NEWS: \nWe will all be together to celebrate and support Spirit of Giving and Junior League of Boca Raton​ \nThe holiday magic begins the moment you enter BRiC’s main entrance\, transformed as Snowflake Lane. Surrounding the spectacular 40-foot Christmas tree family and friends will enjoy complimentary photo opportunities with Santa\, live performances\, themed children’s activities at Santa’s workshop\, a delicious line-up of food trucks\, and more! \nPlenty of FREE parking. \nThe event benefits Spirit of Giving and Junior League of Boca Raton\, spreading holiday cheer throughout the greater Boca Raton community and beyond. \nAdmission is Pure Give Back  \nGeneral admission is FREE with an unwrapped new toy or discretionary monetary donation to Spirit of Giving\, collected upon entry to support the nonprofit’s Annual Holiday Gift Drive\, bringing joy to thousands of children throughout Palm Beach County. The Spirit of Giving network creates alliances with nonprofit organizations by sharing resources and providing education to strengthen our communities. \nVIP tickets are available at $50/adult\, including access to a VIP hospitality tent\, open bar sponsored by Republic National Distributing Company\, hors d’oeuvres and onsite chef by Potions & Motions\, and a dessert station by Cinnaholics. Kids VIP tickets also be available for $15 each (12 years and under) and will include access to a “Kids Corner” within the tent that will serve up children’s treats and beverages. 100% of VIP sales will benefit the Junior League of Boca Raton\, an organization of women committed to promoting voluntarism\, developing the potential of women\, and improving communities through the effective action and leadership of trained volunteers. \n*Event Program Preview \n\nSanta’s Grand Arrival in a stylish ride by Excell Auto/Karma\nComplimentary photos with Santa sponsored by ADT\nState-of-the-art 360 degrees photo booth video experience\nSanta’s Workshop to include snow globe making\, ornament decorating\, and letters to Santa…sponsored by Rotary Club\, Downtown Boca Raton\, and Modernizing Medicine\nLive performances\nCarolers from Florida Atlantic University Women’s Chorus\nLive painting by Artist Kourtney Cannon\nFood trucks\, and VIP catering by Potions in Motion\nYoungsters will receive inflatable handheld candy canes *\n\nWith health and safety of utmost importance\, Baptist Health South Florida/Boca Raton Regional Hospital is sponsoring and staffing The North Pole First Aid Station and YMCA of SPBC will be providing lifeguards and staff to monitor the lake area. \n
URL:https://workatbric.com/event/cp-group-holiday-tree-lighting
LOCATION:FL
CATEGORIES:Open to Public
ATTACH;FMTTYPE=image/png:https://workatbric.com/app/uploads/2021/07/CP-Group-Tree-Lighting-Banner-11.22.png
END:VEVENT
END:VCALENDAR