BEGIN:VCALENDAR
VERSION:2.0
PRODID:-//Boca Raton Innovation Campus - ECPv4.8.2//NONSGML v1.0//EN
CALSCALE:GREGORIAN
METHOD:PUBLISH
X-WR-CALNAME:Boca Raton Innovation Campus
X-ORIGINAL-URL:https://workatbric.com
X-WR-CALDESC:Events for Boca Raton Innovation Campus
BEGIN:VEVENT
DTSTART;TZID=UTC+0:20211110T170000
DTEND;TZID=UTC+0:20211110T200000
DTSTAMP:20260420T054213
CREATED:20210730T220956Z
LAST-MODIFIED:20210929T000120Z
UID:1840-1636563600-1636574400@workatbric.com
SUMMARY:Art On BRiC Walls Juried Exhibition | Opening Reception
DESCRIPTION:We are excited to unveil a collection of over 100+ exquisite art pieces crafted by local artists in South Florida across our community amenity corridors.\nYou’re invited to join us: \nWednesday\, November 10th (RSVP early!) \nVIP Guests: 5:00 PM – 6:00 PM \nBoca Raton Museum of Art Benefactors: 6:00 PM -7:00 PM \nGeneral Public & Local Artists: 7:00 PM – 8:00 PM \nBoca Raton Innovation Campus\, Amenity Corridor \n5000 T-Rex Avenue\, Boca Raton Florida 33431 (Please use the Yamato Road Entrance) \nRepresenting a dynamic cross-section of talent from Broward and Palm Beach Counties\, the first annual juried exhibition organized by the Boca Raton Museum of Art in association with CP Group will be officially revealed through BRiC’s “Amenity Corridor.” \nDrinks & light bites will be provided.  \n
URL:https://workatbric.com/event/art-on-bric-walls-a-boca-raton-museum-of-art-juried-exhibition-in-association-with-cp-group
CATEGORIES:Open to Public
ATTACH;FMTTYPE=image/jpeg:https://workatbric.com/app/uploads/2021/07/Thumbnail-Event-Image-Size-Template.jpg
END:VEVENT
END:VCALENDAR